BEGIN:VCALENDAR
VERSION:2.0
PRODID:-//Cobblestone HOA - ECPv6.15.20//NONSGML v1.0//EN
CALSCALE:GREGORIAN
METHOD:PUBLISH
X-ORIGINAL-URL:https://cobblestone-hoa.com
X-WR-CALDESC:Events for Cobblestone HOA
REFRESH-INTERVAL;VALUE=DURATION:PT1H
X-Robots-Tag:noindex
X-PUBLISHED-TTL:PT1H
BEGIN:VTIMEZONE
TZID:America/Phoenix
BEGIN:STANDARD
TZOFFSETFROM:-0700
TZOFFSETTO:-0700
TZNAME:MST
DTSTART:20240101T000000
END:STANDARD
END:VTIMEZONE
BEGIN:VEVENT
DTSTART;TZID=America/Phoenix:20251201T120000
DTEND;TZID=America/Phoenix:20251201T140000
DTSTAMP:20260423T133324
CREATED:20251124T162913Z
LAST-MODIFIED:20251124T162913Z
UID:2165-1764590400-1764597600@cobblestone-hoa.com
SUMMARY:Cobblestone Budget Meeting
DESCRIPTION:Join Zoom Meeting\nhttps://us02web.zoom.us/j/7677782242?pwd=Zm5RWGp6TmQrWExMOHd3U3JYU0VwUT09&omn=82579913068 \nMeeting ID: 767 778 2242\nPasscode: x42TSS
URL:https://cobblestone-hoa.com/event/cobblestone-budget-meeting/
LOCATION:HOA Conference Room\, 3131 E. Ina Rd\, Tucson\, AZ\, 85712\, United States
END:VEVENT
BEGIN:VEVENT
DTSTART;TZID=America/Phoenix:20251211T143000
DTEND;TZID=America/Phoenix:20251211T170000
DTSTAMP:20260423T133324
CREATED:20251117T174705Z
LAST-MODIFIED:20251117T174705Z
UID:2160-1765463400-1765472400@cobblestone-hoa.com
SUMMARY:December ACC Meeting
DESCRIPTION:https://us02web.zoom.us/j/81580474816?pwd=PZMilnzvLa14WL8jr5D5e9ncY52DKd.1 \nMeeting ID: 815 8047 4816\nPasscode: 457521
URL:https://cobblestone-hoa.com/event/december-acc-meeting-2/
LOCATION:HOA Conference Room\, 3131 E. Ina Rd\, Tucson\, AZ\, 85712\, United States
END:VEVENT
END:VCALENDAR