BEGIN:VCALENDAR
VERSION:2.0
PRODID:-//Cobblestone HOA - ECPv6.15.20//NONSGML v1.0//EN
CALSCALE:GREGORIAN
METHOD:PUBLISH
X-WR-CALNAME:Cobblestone HOA
X-ORIGINAL-URL:https://cobblestone-hoa.com
X-WR-CALDESC:Events for Cobblestone HOA
REFRESH-INTERVAL;VALUE=DURATION:PT1H
X-Robots-Tag:noindex
X-PUBLISHED-TTL:PT1H
BEGIN:VTIMEZONE
TZID:America/Phoenix
BEGIN:STANDARD
TZOFFSETFROM:-0700
TZOFFSETTO:-0700
TZNAME:MST
DTSTART:20240101T000000
END:STANDARD
END:VTIMEZONE
BEGIN:VEVENT
DTSTART;TZID=America/Phoenix:20250213T143000
DTEND;TZID=America/Phoenix:20250213T163000
DTSTAMP:20260424T050758
CREATED:20250207T163535Z
LAST-MODIFIED:20250207T163535Z
UID:1693-1739457000-1739464200@cobblestone-hoa.com
SUMMARY:February ACC Meeting
DESCRIPTION:https://us02web.zoom.us/j/7677782242?pwd=Zm5RWGp6TmQrWExMOHd3U3JYU0VwUT09&omn=89767783143 \nMeeting ID: 767 778 2242\nPasscode: x42TSS
URL:https://cobblestone-hoa.com/event/february-acc-meeting/
LOCATION:HOA Conference Room\, 3131 E. Ina Rd\, Tucson\, AZ\, 85712\, United States
END:VEVENT
BEGIN:VEVENT
DTSTART;TZID=America/Phoenix:20250220T080000
DTEND;TZID=America/Phoenix:20250220T110000
DTSTAMP:20260424T050758
CREATED:20250207T163653Z
LAST-MODIFIED:20250220T002510Z
UID:1695-1740038400-1740049200@cobblestone-hoa.com
SUMMARY:February Board Meeting
DESCRIPTION:Meeting Agenda Document. \n  \n  \nhttps://us02web.zoom.us/j/7677782242?pwd=Zm5RWGp6TmQrWExMOHd3U3JYU0VwUT09&omn=87543548731 \nMeeting ID: 767 778 2242\nPasscode: x42TSS
URL:https://cobblestone-hoa.com/event/february-board-meeting/
LOCATION:HOA Conference Room\, 3131 E. Ina Rd\, Tucson\, AZ\, 85712\, United States
END:VEVENT
END:VCALENDAR