BEGIN:VCALENDAR
VERSION:2.0
PRODID:-//Cobblestone HOA - ECPv6.15.20//NONSGML v1.0//EN
CALSCALE:GREGORIAN
METHOD:PUBLISH
X-WR-CALNAME:Cobblestone HOA
X-ORIGINAL-URL:https://cobblestone-hoa.com
X-WR-CALDESC:Events for Cobblestone HOA
REFRESH-INTERVAL;VALUE=DURATION:PT1H
X-Robots-Tag:noindex
X-PUBLISHED-TTL:PT1H
BEGIN:VTIMEZONE
TZID:America/Phoenix
BEGIN:STANDARD
TZOFFSETFROM:-0700
TZOFFSETTO:-0700
TZNAME:MST
DTSTART:20190101T000000
END:STANDARD
END:VTIMEZONE
BEGIN:VEVENT
DTSTART;TZID=America/Phoenix:20231019T090000
DTEND;TZID=America/Phoenix:20231019T103000
DTSTAMP:20260423T170136
CREATED:20230923T195606Z
LAST-MODIFIED:20230923T195606Z
UID:1473-1697706000-1697711400@cobblestone-hoa.com
SUMMARY:Board of Director's Meeting - Thursday\, October 19\, 2023
DESCRIPTION:Beginning in October 2023\, the Board of Directors have decided to schedule meetings Thursdays most are set for the 3rd Thursday with some exceptions. \nPlease note this Board of Directors meeting is scheduled for Thursday\, October 19\, 2023 @ 9:00 am at the Association Conference room next to the Gate House.  Owners are welcome and encouraged to attend. \nBelow is the Zoom link for those members who are unable to attend in person. \nJoin Zoom Meeting: https://us02web.zoom.us/j/86519037687 \nMeeting ID: 865 1903 7687 \nDial by your location \n+1 346 248 7799 US (Houston) \n+1 408 638 0968 US (San Jose) \n+1 669 444 9171 US \n+1 669 900 6833 US (San Jose) \n+1 719 359 4580 US
URL:https://cobblestone-hoa.com/event/board-of-directors-meeting-thursday-october-19-2023/
LOCATION:HOA Conference Room\, 3131 E. Ina Rd\, Tucson\, AZ\, 85712\, United States
END:VEVENT
BEGIN:VEVENT
DTSTART;TZID=America/Phoenix:20230926T090000
DTEND;TZID=America/Phoenix:20230926T103000
DTSTAMP:20260423T170136
CREATED:20230815T234608Z
LAST-MODIFIED:20230923T194944Z
UID:1456-1695718800-1695724200@cobblestone-hoa.com
SUMMARY:Board of Director's Meeting - September 26\, 2023
DESCRIPTION:Please note the next Board of Directors meeting is scheduled for Tuesday\, September 26\, 2023 @ 9:00 am at the Association Conference room next to the Gate House.  Owners are welcome and encouraged to attend. \nWe will be having a presentation by the National Forest Foundation (NFF) and the Tucson Audubon Society at approximately 9:30 am.  Presenters are John Goraj\, NFF and Tony Figueroa\, Tucson Audubon Society. \nBelow is the Zoom link for those members who are unable to attend in person. \nJoin Zoom Meeting: https://us02web.zoom.us/j/86519037687 \nMeeting ID: 865 1903 7687 \nDial by your location \n+1 346 248 7799 US (Houston) \n+1 408 638 0968 US (San Jose) \n+1 669 444 9171 US \n+1 669 900 6833 US (San Jose) \n+1 719 359 4580 US
URL:https://cobblestone-hoa.com/event/board-of-directors-meeting-september-14-2023/
LOCATION:HOA Conference Room\, 3131 E. Ina Rd\, Tucson\, AZ\, 85712\, United States
END:VEVENT
BEGIN:VEVENT
DTSTART;TZID=America/Phoenix:20230407T170000
DTEND;TZID=America/Phoenix:20230407T203000
DTSTAMP:20260423T170136
CREATED:20230222T233616Z
LAST-MODIFIED:20230322T060013Z
UID:1266-1680886800-1680899400@cobblestone-hoa.com
SUMMARY:Annual General Meeting of the Cobblestone HOA - Please RSVP
DESCRIPTION:[The link to RSVP is at the bottom of this page] \nDear Cobblestone Homeowners\, \nWe are expecting a great turn-out and don’t want anyone that can attend to miss out.  Thus\, we are extending the deadline for RSVP to Friday\, march 24th. \nThe 2023 AGM of the Association will be Friday\, April 7 starting at 5 pm.  The event will be in the backyard of  Dr. Gulshan and Neelam Sethi’s home at 7300 N Cobblestone Road. \nSeating will begin at 5 PM and the Annual Board meeting will begin at 5:30 PM. \nImmediately following the meeting the HOA is hosting a Get-Together where appetizers  and beverages will be served with entertainment by the all-star band the Tirebiters.   We hope you will use this opportunity to meet and mingle with your neighbors. \nThe Board of Directors is looking forward to seeing you all at the Annual Meeting and Get-Together. \nAlan LaFever (President\, HOA) \nAGM Organizing Committee\nAshok Sudan\nSally Jeffcoat
URL:https://cobblestone-hoa.com/event/annual-general-meeting-of-the-cobblestone-hoa-please-rsvp/
LOCATION:Dr. Gulshan and Neelam Sethi’s Residence Backyard\, 7300 N Cobblestone Road\, Tucson\, 85718\, United States
ORGANIZER;CN="Cobblestone Board of Directors":MAILTO:JCarpenter@pamcohoa.com
END:VEVENT
BEGIN:VEVENT
DTSTART;TZID=America/Phoenix:20220429T143000
DTEND;TZID=America/Phoenix:20220429T153000
DTSTAMP:20260423T170136
CREATED:20220427T205914Z
LAST-MODIFIED:20220428T005918Z
UID:1014-1651242600-1651246200@cobblestone-hoa.com
SUMMARY:Special Board Meeting to review Rover Options
DESCRIPTION:Meeting to review and decide on Rover Option. \nTo call and listen in: \n(305) 848-8888 the conference call pin is 313-265-3246
URL:https://cobblestone-hoa.com/event/special-board-meeting-to-review-rover-options/
LOCATION:HOA Conference Room\, 3131 E. Ina Rd\, Tucson\, AZ\, 85712\, United States
ORGANIZER;CN="Alan LaFever":MAILTO:Alan.lafever@Gmail.com
END:VEVENT
BEGIN:VEVENT
DTSTART;TZID=America/Phoenix:20211206T133000
DTEND;TZID=America/Phoenix:20211206T143000
DTSTAMP:20260423T170136
CREATED:20211204T202221Z
LAST-MODIFIED:20211204T202221Z
UID:878-1638797400-1638801000@cobblestone-hoa.com
SUMMARY:Special Board Budget / Dues Session
DESCRIPTION:This meeting is to finalize and vote on the proposed 2022 budget and HOA Dues \nA zoom link will be provided here before the meeting on Monday.
URL:https://cobblestone-hoa.com/event/special-board-budget-dues-session/
LOCATION:AZ
ORGANIZER;CN="Alan LaFever":MAILTO:Alan.lafever@Gmail.com
END:VEVENT
BEGIN:VEVENT
DTSTART;TZID=America/Phoenix:20200915T090000
DTEND;TZID=America/Phoenix:20200915T110000
DTSTAMP:20260423T170136
CREATED:20200820T143248Z
LAST-MODIFIED:20200820T143248Z
UID:627-1600160400-1600167600@cobblestone-hoa.com
SUMMARY:September Board Meeting (Via Zoom)
DESCRIPTION:
URL:https://cobblestone-hoa.com/event/september-board-meeting-via-zoom/
LOCATION:AZ
END:VEVENT
BEGIN:VEVENT
DTSTART;TZID=America/Phoenix:20200721T090000
DTEND;TZID=America/Phoenix:20200721T100000
DTSTAMP:20260423T170136
CREATED:20200706T164046Z
LAST-MODIFIED:20200706T164215Z
UID:245-1595322000-1595325600@cobblestone-hoa.com
SUMMARY:July Board Meeting
DESCRIPTION:Contact Kristin Fleming for the Zoom meeting invite link and phone number.
URL:https://cobblestone-hoa.com/event/july-board-meeting/
LOCATION:Meeting Via Zoom
ORGANIZER;CN="Kristin Fleming":MAILTO:kristin@hbsmanagementsolutions.com
END:VEVENT
END:VCALENDAR