BEGIN:VCALENDAR
VERSION:2.0
PRODID:-//Cobblestone HOA - ECPv6.15.20//NONSGML v1.0//EN
CALSCALE:GREGORIAN
METHOD:PUBLISH
X-WR-CALNAME:Cobblestone HOA
X-ORIGINAL-URL:https://cobblestone-hoa.com
X-WR-CALDESC:Events for Cobblestone HOA
REFRESH-INTERVAL;VALUE=DURATION:PT1H
X-Robots-Tag:noindex
X-PUBLISHED-TTL:PT1H
BEGIN:VTIMEZONE
TZID:America/Phoenix
BEGIN:STANDARD
TZOFFSETFROM:-0700
TZOFFSETTO:-0700
TZNAME:MST
DTSTART:20220101T000000
END:STANDARD
END:VTIMEZONE
BEGIN:VEVENT
DTSTART;TZID=America/Phoenix:20251211T143000
DTEND;TZID=America/Phoenix:20251211T170000
DTSTAMP:20260423T153400
CREATED:20251117T174705Z
LAST-MODIFIED:20251117T174705Z
UID:2160-1765463400-1765472400@cobblestone-hoa.com
SUMMARY:December ACC Meeting
DESCRIPTION:https://us02web.zoom.us/j/81580474816?pwd=PZMilnzvLa14WL8jr5D5e9ncY52DKd.1 \nMeeting ID: 815 8047 4816\nPasscode: 457521
URL:https://cobblestone-hoa.com/event/december-acc-meeting-2/
LOCATION:HOA Conference Room\, 3131 E. Ina Rd\, Tucson\, AZ\, 85712\, United States
END:VEVENT
BEGIN:VEVENT
DTSTART;TZID=America/Phoenix:20251201T120000
DTEND;TZID=America/Phoenix:20251201T140000
DTSTAMP:20260423T153400
CREATED:20251124T162913Z
LAST-MODIFIED:20251124T162913Z
UID:2165-1764590400-1764597600@cobblestone-hoa.com
SUMMARY:Cobblestone Budget Meeting
DESCRIPTION:Join Zoom Meeting\nhttps://us02web.zoom.us/j/7677782242?pwd=Zm5RWGp6TmQrWExMOHd3U3JYU0VwUT09&omn=82579913068 \nMeeting ID: 767 778 2242\nPasscode: x42TSS
URL:https://cobblestone-hoa.com/event/cobblestone-budget-meeting/
LOCATION:HOA Conference Room\, 3131 E. Ina Rd\, Tucson\, AZ\, 85712\, United States
END:VEVENT
BEGIN:VEVENT
DTSTART;TZID=America/Phoenix:20251120T140000
DTEND;TZID=America/Phoenix:20251120T170000
DTSTAMP:20260423T153400
CREATED:20251117T174625Z
LAST-MODIFIED:20251117T174625Z
UID:2158-1763647200-1763658000@cobblestone-hoa.com
SUMMARY:November Board Meeting
DESCRIPTION:https://us02web.zoom.us/j/85908787065?pwd=YAb3aAe5GqBuDTrp1rtqsrsLlQQGni.1 \nMeeting ID: 859 0878 7065\nPasscode: 890872
URL:https://cobblestone-hoa.com/event/november-board-meeting/
LOCATION:HOA Conference Room\, 3131 E. Ina Rd\, Tucson\, AZ\, 85712\, United States
END:VEVENT
BEGIN:VEVENT
DTSTART;TZID=America/Phoenix:20251016T140000
DTEND;TZID=America/Phoenix:20251016T170000
DTSTAMP:20260423T153400
CREATED:20250925T190715Z
LAST-MODIFIED:20250925T190715Z
UID:2043-1760623200-1760634000@cobblestone-hoa.com
SUMMARY:October Board Meeting
DESCRIPTION:Join Zoom Meeting\nhttps://us02web.zoom.us/j/85908787065?pwd=YAb3aAe5GqBuDTrp1rtqsrsLlQQGni.1 \nMeeting ID: 859 0878 7065\nPasscode: 890872
URL:https://cobblestone-hoa.com/event/october-board-meeting/
LOCATION:Meeting Via Zoom
END:VEVENT
BEGIN:VEVENT
DTSTART;TZID=America/Phoenix:20251009T143000
DTEND;TZID=America/Phoenix:20251009T170000
DTSTAMP:20260423T153400
CREATED:20250925T190645Z
LAST-MODIFIED:20251007T214426Z
UID:2041-1760020200-1760029200@cobblestone-hoa.com
SUMMARY:Cancelled October ACC Meeting
DESCRIPTION:
URL:https://cobblestone-hoa.com/event/october-acc-meeting/
LOCATION:Meeting Via Zoom
END:VEVENT
BEGIN:VEVENT
DTSTART;TZID=America/Phoenix:20251006T140000
DTEND;TZID=America/Phoenix:20251006T170000
DTSTAMP:20260423T153400
CREATED:20250925T190605Z
LAST-MODIFIED:20250925T190605Z
UID:2039-1759759200-1759770000@cobblestone-hoa.com
SUMMARY:October Board Meeting (Rescheduled September Meeting)
DESCRIPTION:Join Zoom Meeting\nhttps://us02web.zoom.us/j/86534607876?pwd=wKcIwyp1Fo0a74e2kCrbND3dp2T6Sw.1 \nMeeting ID: 865 3460 7876\nPasscode: 890533
URL:https://cobblestone-hoa.com/event/october-board-meeting-rescheduled-september-meeting/
LOCATION:Meeting Via Zoom
END:VEVENT
BEGIN:VEVENT
DTSTART;TZID=America/Phoenix:20250821T100000
DTEND;TZID=America/Phoenix:20250821T120000
DTSTAMP:20260423T153400
CREATED:20250820T212610Z
LAST-MODIFIED:20250820T212610Z
UID:1905-1755770400-1755777600@cobblestone-hoa.com
SUMMARY:Reserve Study Review
DESCRIPTION:Join Zoom Meeting\nhttps://us02web.zoom.us/j/82757827182?pwd=n73nuQvddVy0X6cTqKJrfZLSAQ0W6q.1 \nMeeting ID: 827 5782 7182\nPasscode: 358535
URL:https://cobblestone-hoa.com/event/reserve-study-review/
LOCATION:Meeting Via Zoom
END:VEVENT
BEGIN:VEVENT
DTSTART;TZID=America/Phoenix:20250722T140000
DTEND;TZID=America/Phoenix:20250722T170000
DTSTAMP:20260423T153400
CREATED:20250710T222056Z
LAST-MODIFIED:20250710T222056Z
UID:1862-1753192800-1753203600@cobblestone-hoa.com
SUMMARY:July Board Meeting
DESCRIPTION:Sienna Community Management is inviting you to a scheduled Zoom meeting.\nJoin Zoom Meeting\nhttps://us02web.zoom.us/j/85908787065?pwd=YAb3aAe5GqBuDTrp1rtqsrsLlQQGni.1 \nMeeting ID: 859 0878 7065\nPasscode: 890872
URL:https://cobblestone-hoa.com/event/july-board-meeting-2/
LOCATION:Meeting Via Zoom
END:VEVENT
BEGIN:VEVENT
DTSTART;TZID=America/Phoenix:20250612T143000
DTEND;TZID=America/Phoenix:20250612T170000
DTSTAMP:20260423T153400
CREATED:20250611T231942Z
LAST-MODIFIED:20250611T231942Z
UID:1852-1749738600-1749747600@cobblestone-hoa.com
SUMMARY:June ACC Meeting
DESCRIPTION:https://us02web.zoom.us/j/81580474816?pwd=PZMilnzvLa14WL8jr5D5e9ncY52DKd.1 \nMeeting ID: 815 8047 4816\nPasscode: 457521 \n— \nOne tap mobile\n+17193594580\,\,81580474816# US\n+12532050468\,\,81580474816# US
URL:https://cobblestone-hoa.com/event/june-acc-meeting/
LOCATION:Meeting Via Zoom
END:VEVENT
BEGIN:VEVENT
DTSTART;TZID=America/Phoenix:20250515T140000
DTEND;TZID=America/Phoenix:20250515T170000
DTSTAMP:20260423T153400
CREATED:20250514T181657Z
LAST-MODIFIED:20250514T181657Z
UID:1829-1747317600-1747328400@cobblestone-hoa.com
SUMMARY:May Board Meeting
DESCRIPTION:Meeting via Zoom \nhttps://us02web.zoom.us/j/85908787065?pwd=YAb3aAe5GqBuDTrp1rtqsrsLlQQGni.1 \nMeeting ID: 859 0878 7065\nPasscode: 890872
URL:https://cobblestone-hoa.com/event/may-board-meeting/
LOCATION:Meeting Via Zoom
END:VEVENT
BEGIN:VEVENT
DTSTART;TZID=America/Phoenix:20250417T090000
DTEND;TZID=America/Phoenix:20250417T120000
DTSTAMP:20260423T153400
CREATED:20250408T180752Z
LAST-MODIFIED:20250408T180752Z
UID:1786-1744880400-1744891200@cobblestone-hoa.com
SUMMARY:April Board Meeting
DESCRIPTION:April Board Meeting \nJoin Zoom Meeting\nMeeting ID: 859 0878 7065\nPasscode: 890872
URL:https://cobblestone-hoa.com/event/april-board-meeting/
LOCATION:Meeting Via Zoom
END:VEVENT
BEGIN:VEVENT
DTSTART;TZID=America/Phoenix:20250410T143000
DTEND;TZID=America/Phoenix:20250410T170000
DTSTAMP:20260423T153400
CREATED:20250408T180828Z
LAST-MODIFIED:20250408T180828Z
UID:1789-1744295400-1744304400@cobblestone-hoa.com
SUMMARY:April ACC Meeting
DESCRIPTION:April ACC Meeting \nJoin Zoom Meeting\nMeeting ID: 815 8047 4816\nPasscode: 457521
URL:https://cobblestone-hoa.com/event/april-acc-meeting/
LOCATION:Meeting Via Zoom
END:VEVENT
BEGIN:VEVENT
DTSTART;TZID=America/Phoenix:20250408T170000
DTEND;TZID=America/Phoenix:20250408T180000
DTSTAMP:20260423T153400
CREATED:20250408T180900Z
LAST-MODIFIED:20250408T180900Z
UID:1791-1744131600-1744135200@cobblestone-hoa.com
SUMMARY:Annual Meeting
DESCRIPTION:Annual Meeting \nJoin Zoom Meeting\nMeeting ID: 838 4024 3572\nPasscode: x42TSS
URL:https://cobblestone-hoa.com/event/annual-meeting/
LOCATION:Meeting Via Zoom
END:VEVENT
BEGIN:VEVENT
DTSTART;TZID=America/Phoenix:20250320T090000
DTEND;TZID=America/Phoenix:20250320T120000
DTSTAMP:20260423T153400
CREATED:20250312T225944Z
LAST-MODIFIED:20250312T225944Z
UID:1772-1742461200-1742472000@cobblestone-hoa.com
SUMMARY:March Board Meeting
DESCRIPTION:Join Zoom Meeting\nhttps://us02web.zoom.us/j/85908787065?pwd=YAb3aAe5GqBuDTrp1rtqsrsLlQQGni.1 \nMeeting ID: 859 0878 7065\nPasscode: 890872
URL:https://cobblestone-hoa.com/event/march-board-meeting/
LOCATION:Meeting Via Zoom
END:VEVENT
BEGIN:VEVENT
DTSTART;TZID=America/Phoenix:20250313T143000
DTEND;TZID=America/Phoenix:20250313T163000
DTSTAMP:20260423T153400
CREATED:20250312T225844Z
LAST-MODIFIED:20250312T225844Z
UID:1769-1741876200-1741883400@cobblestone-hoa.com
SUMMARY:March ACC Meeting
DESCRIPTION:Join Zoom Meeting\nhttps://us02web.zoom.us/j/88969576134?pwd=Dy6sbeGsplIxUm6L26xbqy67f5810C.1 \nMeeting ID: 889 6957 6134\nPasscode: 510229
URL:https://cobblestone-hoa.com/event/march-acc-meeting/
LOCATION:Meeting Via Zoom
END:VEVENT
BEGIN:VEVENT
DTSTART;TZID=America/Phoenix:20250220T080000
DTEND;TZID=America/Phoenix:20250220T110000
DTSTAMP:20260423T153400
CREATED:20250207T163653Z
LAST-MODIFIED:20250220T002510Z
UID:1695-1740038400-1740049200@cobblestone-hoa.com
SUMMARY:February Board Meeting
DESCRIPTION:Meeting Agenda Document. \n  \n  \nhttps://us02web.zoom.us/j/7677782242?pwd=Zm5RWGp6TmQrWExMOHd3U3JYU0VwUT09&omn=87543548731 \nMeeting ID: 767 778 2242\nPasscode: x42TSS
URL:https://cobblestone-hoa.com/event/february-board-meeting/
LOCATION:HOA Conference Room\, 3131 E. Ina Rd\, Tucson\, AZ\, 85712\, United States
END:VEVENT
BEGIN:VEVENT
DTSTART;TZID=America/Phoenix:20250213T143000
DTEND;TZID=America/Phoenix:20250213T163000
DTSTAMP:20260423T153400
CREATED:20250207T163535Z
LAST-MODIFIED:20250207T163535Z
UID:1693-1739457000-1739464200@cobblestone-hoa.com
SUMMARY:February ACC Meeting
DESCRIPTION:https://us02web.zoom.us/j/7677782242?pwd=Zm5RWGp6TmQrWExMOHd3U3JYU0VwUT09&omn=89767783143 \nMeeting ID: 767 778 2242\nPasscode: x42TSS
URL:https://cobblestone-hoa.com/event/february-acc-meeting/
LOCATION:HOA Conference Room\, 3131 E. Ina Rd\, Tucson\, AZ\, 85712\, United States
END:VEVENT
BEGIN:VEVENT
DTSTART;TZID=America/Phoenix:20250116T090000
DTEND;TZID=America/Phoenix:20250116T110000
DTSTAMP:20260423T153400
CREATED:20250107T201718Z
LAST-MODIFIED:20250107T201718Z
UID:1673-1737018000-1737025200@cobblestone-hoa.com
SUMMARY:Board of Directors Meeting - January 16th at 9:00 AM
DESCRIPTION:The Board of Directors meets on the third Thursday of the month at 9:00 AM in the conference room and via Zoom. \nhttps://us02web.zoom.us/j/81159897257?pwd=oe9IGV4ANo08IaFVPrfiS0mJGmhcfj.1 \nMeeting ID: 811 5989 7257\nPasscode: 819084
URL:https://cobblestone-hoa.com/event/board-of-directors-meeting-january-16th-at-900-am/
LOCATION:HOA Conference Room\, 3131 E. Ina Rd\, Tucson\, AZ\, 85712\, United States
END:VEVENT
BEGIN:VEVENT
DTSTART;TZID=America/Phoenix:20250109T143000
DTEND;TZID=America/Phoenix:20250109T163000
DTSTAMP:20260423T153400
CREATED:20250107T201310Z
LAST-MODIFIED:20250107T201310Z
UID:1670-1736433000-1736440200@cobblestone-hoa.com
SUMMARY:ACC Meeting - January 9\, 2025 2:30 PM
DESCRIPTION:https://us02web.zoom.us/j/86710916659?pwd=v68GKO9ZwezLM3SYWQb9pe71MrRCmu.1 \nMeeting ID: 867 1091 6659\nPasscode: 605431 \nPhone:  669 444 9171
URL:https://cobblestone-hoa.com/event/acc-meeting-january-9-2025-230-pm/
LOCATION:HOA Conference Room\, 3131 E. Ina Rd\, Tucson\, AZ\, 85712\, United States
END:VEVENT
BEGIN:VEVENT
DTSTART;TZID=America/Phoenix:20241212T143000
DTEND;TZID=America/Phoenix:20241212T163000
DTSTAMP:20260423T153400
CREATED:20241114T005512Z
LAST-MODIFIED:20241114T005541Z
UID:1664-1734013800-1734021000@cobblestone-hoa.com
SUMMARY:ACC Meeting - December 12\, 2024 at 2:30 PM
DESCRIPTION:https://us02web.zoom.us/j/83996252815?pwd=zYbLsTtV3yCFlcup0RHIw1akLCWjhT.1 \nMeeting ID: 839 9625 2815\nPasscode: 954174 \nPhone:  253 215 8782
URL:https://cobblestone-hoa.com/event/december-acc-meeting/
LOCATION:HOA Conference Room\, 3131 E. Ina Rd\, Tucson\, AZ\, 85712\, United States
END:VEVENT
BEGIN:VEVENT
DTSTART;TZID=America/Phoenix:20241119T090000
DTEND;TZID=America/Phoenix:20241119T110000
DTSTAMP:20260423T153400
CREATED:20240912T185209Z
LAST-MODIFIED:20241114T004131Z
UID:1629-1732006800-1732014000@cobblestone-hoa.com
SUMMARY:Board of Directors Meeting - November 19\, 2024 at 9:00 AM
DESCRIPTION:The Board meets on the third Thursday of the month at the community conference room. For those who prefer to attend virtually\, a Zoom link is available below: \nhttps://us02web.zoom.us/j/89526233553?pwd=hPPPU8BUEbdtaHFlOMAHpcJ0GtMiaV.1 \nMeeting ID: 895 2623 3553\nPasscode: 158225 \nPhone: 719 359 4580
URL:https://cobblestone-hoa.com/event/board-of-directors-meeting-november-21-2024-at-900-am/
LOCATION:HOA Conference Room\, 3131 E. Ina Rd\, Tucson\, AZ\, 85712\, United States
END:VEVENT
BEGIN:VEVENT
DTSTART;TZID=America/Phoenix:20241114T143000
DTEND;TZID=America/Phoenix:20241114T163000
DTSTAMP:20260423T153400
CREATED:20240912T185425Z
LAST-MODIFIED:20240912T185532Z
UID:1631-1731594600-1731601800@cobblestone-hoa.com
SUMMARY:ACC Meeting - November 14\, 2024 at 2:30 PM
DESCRIPTION:The ACC meets on the second Thursday of the month at the community conference room. For those who prefer to attend virtually\, a Zoom link is provided below: \n  \nhttps://us02web.zoom.us/j/85883926766?pwd=9fvuuayKEOu3QJn9JgJ6Qf3JdRaFQF.1 \nMeeting ID: 858 8392 6766\nPasscode: 633052 \nPhone: 719 359 4580
URL:https://cobblestone-hoa.com/event/acc-meeting-november-14-2024-at-230-pm/
LOCATION:HOA Conference Room\, 3131 E. Ina Rd\, Tucson\, AZ\, 85712\, United States
END:VEVENT
BEGIN:VEVENT
DTSTART;TZID=America/Phoenix:20241017T090000
DTEND;TZID=America/Phoenix:20241017T110000
DTSTAMP:20260423T153400
CREATED:20240912T182438Z
LAST-MODIFIED:20240912T182438Z
UID:1624-1729155600-1729162800@cobblestone-hoa.com
SUMMARY:Board of Directors Meeting - October 17\, 2024 at 9:00 AM
DESCRIPTION:The Board meets on the third Thursday of the month at the community conference room. A Zoom link is also provided for those who would like to attend remotely. The Zoom details are included below: \nhttps://us02web.zoom.us/j/89086641560?pwd=ik8vgJAW03GOepLNKTJDm3KDavoBYO.1  \nMeeting ID: 890 8664 1560\nPasscode: 058815 \nPhone: 253 205 0468 \n 
URL:https://cobblestone-hoa.com/event/board-of-directors-meeting-october-17-2024-at-900-am/
LOCATION:HOA Conference Room\, 3131 E. Ina Rd\, Tucson\, AZ\, 85712\, United States
END:VEVENT
BEGIN:VEVENT
DTSTART;TZID=America/Phoenix:20241010T143000
DTEND;TZID=America/Phoenix:20241010T163000
DTSTAMP:20260423T153400
CREATED:20240912T182728Z
LAST-MODIFIED:20240912T182728Z
UID:1626-1728570600-1728577800@cobblestone-hoa.com
SUMMARY:ACC Meeting - October 10\, 2024 at 2:30 PM
DESCRIPTION:The ACC meets on the second Thursday of the month at 2:30 PM. \nFor those who prefer to attend virtually\, please use the Zoom link below: \nhttps://us02web.zoom.us/j/89900569466?pwd=JDbrS7nQUaDTIWPFPuFZsXQitLQWMg.1 \nMeeting ID: 899 0056 9466\nPasscode: 467501 \nPhone:  719 359 4580
URL:https://cobblestone-hoa.com/event/acc-meeting-october-10-2024-at-230-pm/
LOCATION:HOA Conference Room\, 3131 E. Ina Rd\, Tucson\, AZ\, 85712\, United States
END:VEVENT
BEGIN:VEVENT
DTSTART;TZID=America/Phoenix:20241001T090000
DTEND;TZID=America/Phoenix:20241001T100000
DTSTAMP:20260423T153400
CREATED:20240930T220947Z
LAST-MODIFIED:20240930T220947Z
UID:1637-1727773200-1727776800@cobblestone-hoa.com
SUMMARY:Executive Session
DESCRIPTION:ARS 33-1804 A4
URL:https://cobblestone-hoa.com/event/executive-session/
LOCATION:Meeting Via Zoom
END:VEVENT
BEGIN:VEVENT
DTSTART;TZID=America/Phoenix:20240919T090000
DTEND;TZID=America/Phoenix:20240919T110000
DTSTAMP:20260423T153400
CREATED:20240912T182252Z
LAST-MODIFIED:20240912T182811Z
UID:1622-1726736400-1726743600@cobblestone-hoa.com
SUMMARY:Board of Directors Meeting - September 19\, 2024 at 9:00 AM
DESCRIPTION:The Board meets on the third Thursday of the month at the community conference room. A Zoom link is also provided for those who would like to attend remotely. The Zoom details are included below: \nhttps://us02web.zoom.us/j/84694619881?pwd=17qFh57JPXdYb3I2Me8zI0kdzhAN8C.1 \nMeeting ID: 846 9461 9881\nPasscode: 241272 \nPhone 408 638 0968 \n 
URL:https://cobblestone-hoa.com/event/board-of-directors-meeting-september-19-2024-at-900-am/
LOCATION:HOA Conference Room\, 3131 E. Ina Rd\, Tucson\, AZ\, 85712\, United States
END:VEVENT
BEGIN:VEVENT
DTSTART;TZID=America/Phoenix:20240912T143000
DTEND;TZID=America/Phoenix:20240912T163000
DTSTAMP:20260423T153400
CREATED:20240912T181749Z
LAST-MODIFIED:20240912T181749Z
UID:1620-1726151400-1726158600@cobblestone-hoa.com
SUMMARY:ACC Meeting - September 12\, 2024 at 2:30 PM
DESCRIPTION:This is a ZOOM ONLY meeting\, there will be no meeting at the community conference room due to the ongoing polychip roadwork. Please note the Zoom details below: \nhttps://us02web.zoom.us/j/89835735148?pwd=TFJ0U1JxPbcVpTVTKDv3f2ylZdhaKS.1  \nMeeting ID: 898 3573 5148\nPasscode: 974379 \nPhone: 346 248 7799 \n 
URL:https://cobblestone-hoa.com/event/acc-meeting-september-12-2024-at-230-pm/
LOCATION:Meeting Via Zoom
END:VEVENT
BEGIN:VEVENT
DTSTART;TZID=America/Phoenix:20231214T090000
DTEND;TZID=America/Phoenix:20231214T103000
DTSTAMP:20260423T153400
CREATED:20230923T200131Z
LAST-MODIFIED:20230923T200229Z
UID:1481-1702544400-1702549800@cobblestone-hoa.com
SUMMARY:Board of Directors' Meeting - Thursday\, December 14\, 2023
DESCRIPTION:Beginning in October 2023\, the Board of Directors have decided to schedule meetings Thursdays most are set for the 3rd Thursday with some exceptions. \nPlease note this Board of Directors meeting is scheduled for Thursday\, December 14\, 2023 @ 9:00 am at the Association Conference room next to the Gate House.  Owners are welcome and encouraged to attend. \nBelow is the Zoom link for those members who are unable to attend in person. \nJoin Zoom Meeting: https://us02web.zoom.us/j/86519037687 \nMeeting ID: 865 1903 7687 \nDial by your location \n+1 346 248 7799 US (Houston) \n+1 408 638 0968 US (San Jose) \n+1 669 444 9171 US \n+1 669 900 6833 US (San Jose) \n+1 719 359 4580 US
URL:https://cobblestone-hoa.com/event/board-of-directors-meeting-december-16-2023/
LOCATION:HOA Conference Room\, 3131 E. Ina Rd\, Tucson\, AZ\, 85712\, United States
END:VEVENT
BEGIN:VEVENT
DTSTART;TZID=America/Phoenix:20231116T090000
DTEND;TZID=America/Phoenix:20231116T103000
DTSTAMP:20260423T153400
CREATED:20230923T195959Z
LAST-MODIFIED:20230923T195959Z
UID:1479-1700125200-1700130600@cobblestone-hoa.com
SUMMARY:Board of Director's Meeting - Thursday\, November 16\, 2023
DESCRIPTION:Beginning in October 2023\, the Board of Directors have decided to schedule meetings Thursdays most are set for the 3rd Thursday with some exceptions. \nPlease note this Board of Directors meeting is scheduled for Thursday\, November 16\, 2023 @ 9:00 am at the Association Conference room next to the Gate House.  Owners are welcome and encouraged to attend. \nBelow is the Zoom link for those members who are unable to attend in person. \nJoin Zoom Meeting: https://us02web.zoom.us/j/86519037687 \nMeeting ID: 865 1903 7687 \nDial by your location \n+1 346 248 7799 US (Houston) \n+1 408 638 0968 US (San Jose) \n+1 669 444 9171 US \n+1 669 900 6833 US (San Jose) \n+1 719 359 4580 US
URL:https://cobblestone-hoa.com/event/board-of-directors-meeting-thursday-november-16-2023/
LOCATION:HOA Conference Room\, 3131 E. Ina Rd\, Tucson\, AZ\, 85712\, United States
END:VEVENT
BEGIN:VEVENT
DTSTART;TZID=America/Phoenix:20231019T090000
DTEND;TZID=America/Phoenix:20231019T103000
DTSTAMP:20260423T153400
CREATED:20230923T195606Z
LAST-MODIFIED:20230923T195606Z
UID:1473-1697706000-1697711400@cobblestone-hoa.com
SUMMARY:Board of Director's Meeting - Thursday\, October 19\, 2023
DESCRIPTION:Beginning in October 2023\, the Board of Directors have decided to schedule meetings Thursdays most are set for the 3rd Thursday with some exceptions. \nPlease note this Board of Directors meeting is scheduled for Thursday\, October 19\, 2023 @ 9:00 am at the Association Conference room next to the Gate House.  Owners are welcome and encouraged to attend. \nBelow is the Zoom link for those members who are unable to attend in person. \nJoin Zoom Meeting: https://us02web.zoom.us/j/86519037687 \nMeeting ID: 865 1903 7687 \nDial by your location \n+1 346 248 7799 US (Houston) \n+1 408 638 0968 US (San Jose) \n+1 669 444 9171 US \n+1 669 900 6833 US (San Jose) \n+1 719 359 4580 US
URL:https://cobblestone-hoa.com/event/board-of-directors-meeting-thursday-october-19-2023/
LOCATION:HOA Conference Room\, 3131 E. Ina Rd\, Tucson\, AZ\, 85712\, United States
END:VEVENT
END:VCALENDAR