BEGIN:VCALENDAR
VERSION:2.0
PRODID:-//Cobblestone HOA - ECPv6.15.20//NONSGML v1.0//EN
CALSCALE:GREGORIAN
METHOD:PUBLISH
X-WR-CALNAME:Cobblestone HOA
X-ORIGINAL-URL:https://cobblestone-hoa.com
X-WR-CALDESC:Events for Cobblestone HOA
REFRESH-INTERVAL;VALUE=DURATION:PT1H
X-Robots-Tag:noindex
X-PUBLISHED-TTL:PT1H
BEGIN:VTIMEZONE
TZID:America/Phoenix
BEGIN:STANDARD
TZOFFSETFROM:-0700
TZOFFSETTO:-0700
TZNAME:MST
DTSTART:20250101T000000
END:STANDARD
END:VTIMEZONE
BEGIN:VEVENT
DTSTART;TZID=America/Phoenix:20260514T143000
DTEND;TZID=America/Phoenix:20260514T170000
DTSTAMP:20260423T102608
CREATED:20260224T192930Z
LAST-MODIFIED:20260224T192930Z
UID:2322-1778769000-1778778000@cobblestone-hoa.com
SUMMARY:May ACC Meeting
DESCRIPTION:https://us02web.zoom.us/j/81572946977?pwd=RFFfS15MjRmxnKhINbYDXLkoglMz0y.1 \nMeeting ID: 815 7294 6977\nPasscode: 491634
URL:https://cobblestone-hoa.com/event/may-acc-meeting/
LOCATION:Meeting Via Zoom
END:VEVENT
BEGIN:VEVENT
DTSTART;TZID=America/Phoenix:20260521T140000
DTEND;TZID=America/Phoenix:20260521T170000
DTSTAMP:20260423T102608
CREATED:20260224T193109Z
LAST-MODIFIED:20260224T193109Z
UID:2328-1779372000-1779382800@cobblestone-hoa.com
SUMMARY:May Board Meeting
DESCRIPTION:https://us02web.zoom.us/j/85908787065?pwd=YAb3aAe5GqBuDTrp1rtqsrsLlQQGni.1 \n  \nMeeting ID: 859 0878 7065 \nPasscode: 890872
URL:https://cobblestone-hoa.com/event/may-board-meeting-2/
LOCATION:Meeting Via Zoom
END:VEVENT
END:VCALENDAR