BEGIN:VCALENDAR
VERSION:2.0
PRODID:-//Cobblestone HOA - ECPv6.15.20//NONSGML v1.0//EN
CALSCALE:GREGORIAN
METHOD:PUBLISH
X-ORIGINAL-URL:https://cobblestone-hoa.com
X-WR-CALDESC:Events for Cobblestone HOA
REFRESH-INTERVAL;VALUE=DURATION:PT1H
X-Robots-Tag:noindex
X-PUBLISHED-TTL:PT1H
BEGIN:VTIMEZONE
TZID:America/Phoenix
BEGIN:STANDARD
TZOFFSETFROM:-0700
TZOFFSETTO:-0700
TZNAME:MST
DTSTART:20250101T000000
END:STANDARD
END:VTIMEZONE
BEGIN:VEVENT
DTSTART;TZID=America/Phoenix:20260428T140000
DTEND;TZID=America/Phoenix:20260428T170000
DTSTAMP:20260423T133656
CREATED:20260423T165655Z
LAST-MODIFIED:20260423T165655Z
UID:2360-1777384800-1777395600@cobblestone-hoa.com
SUMMARY:April ACC Meeting
DESCRIPTION:https://us02web.zoom.us/j/7677782242?omn=89620938983 \nMeeting ID: 767 778 2242
URL:https://cobblestone-hoa.com/event/april-acc-meeting-2/
END:VEVENT
END:VCALENDAR