BEGIN:VCALENDAR
VERSION:2.0
PRODID:-//Cobblestone HOA - ECPv6.15.20//NONSGML v1.0//EN
CALSCALE:GREGORIAN
METHOD:PUBLISH
X-ORIGINAL-URL:https://cobblestone-hoa.com
X-WR-CALDESC:Events for Cobblestone HOA
REFRESH-INTERVAL;VALUE=DURATION:PT1H
X-Robots-Tag:noindex
X-PUBLISHED-TTL:PT1H
BEGIN:VTIMEZONE
TZID:America/Phoenix
BEGIN:STANDARD
TZOFFSETFROM:-0700
TZOFFSETTO:-0700
TZNAME:MST
DTSTART:20250101T000000
END:STANDARD
END:VTIMEZONE
BEGIN:VEVENT
DTSTART;TZID=America/Phoenix:20260408T170000
DTEND;TZID=America/Phoenix:20260408T200000
DTSTAMP:20260423T090203
CREATED:20260224T193202Z
LAST-MODIFIED:20260224T193202Z
UID:2330-1775667600-1775678400@cobblestone-hoa.com
SUMMARY:Annual Meeting
DESCRIPTION:Home of Brenda Sussna and Chuck Rogers \n3270 E. Wind Song Place
URL:https://cobblestone-hoa.com/event/annual-meeting-2/
END:VEVENT
END:VCALENDAR