BEGIN:VCALENDAR
VERSION:2.0
PRODID:-//Cobblestone HOA - ECPv6.15.20//NONSGML v1.0//EN
CALSCALE:GREGORIAN
METHOD:PUBLISH
X-WR-CALNAME:Cobblestone HOA
X-ORIGINAL-URL:https://cobblestone-hoa.com
X-WR-CALDESC:Events for Cobblestone HOA
REFRESH-INTERVAL;VALUE=DURATION:PT1H
X-Robots-Tag:noindex
X-PUBLISHED-TTL:PT1H
BEGIN:VTIMEZONE
TZID:America/Phoenix
BEGIN:STANDARD
TZOFFSETFROM:-0700
TZOFFSETTO:-0700
TZNAME:MST
DTSTART:20250101T000000
END:STANDARD
END:VTIMEZONE
BEGIN:VEVENT
DTSTART;TZID=America/Phoenix:20260212T143000
DTEND;TZID=America/Phoenix:20260212T170000
DTSTAMP:20260423T115712
CREATED:20260202T211848Z
LAST-MODIFIED:20260202T211848Z
UID:2293-1770906600-1770915600@cobblestone-hoa.com
SUMMARY:February ACC Meeting
DESCRIPTION:Join Zoom Meeting\nhttps://us02web.zoom.us/j/81572946977?pwd=RFFfS15MjRmxnKhINbYDXLkoglMz0y.1 \nMeeting ID: 815 7294 6977\nPasscode: 491634
URL:https://cobblestone-hoa.com/event/february-acc-meeting-2/
LOCATION:Meeting Via Zoom
END:VEVENT
END:VCALENDAR