BEGIN:VCALENDAR
VERSION:2.0
PRODID:-//Cobblestone HOA - ECPv6.15.20//NONSGML v1.0//EN
CALSCALE:GREGORIAN
METHOD:PUBLISH
X-ORIGINAL-URL:https://cobblestone-hoa.com
X-WR-CALDESC:Events for Cobblestone HOA
REFRESH-INTERVAL;VALUE=DURATION:PT1H
X-Robots-Tag:noindex
X-PUBLISHED-TTL:PT1H
BEGIN:VTIMEZONE
TZID:America/Phoenix
BEGIN:STANDARD
TZOFFSETFROM:-0700
TZOFFSETTO:-0700
TZNAME:MST
DTSTART:20240101T000000
END:STANDARD
END:VTIMEZONE
BEGIN:VEVENT
DTSTART;TZID=America/Phoenix:20250116T090000
DTEND;TZID=America/Phoenix:20250116T110000
DTSTAMP:20260424T082255
CREATED:20250107T201718Z
LAST-MODIFIED:20250107T201718Z
UID:1673-1737018000-1737025200@cobblestone-hoa.com
SUMMARY:Board of Directors Meeting - January 16th at 9:00 AM
DESCRIPTION:The Board of Directors meets on the third Thursday of the month at 9:00 AM in the conference room and via Zoom. \nhttps://us02web.zoom.us/j/81159897257?pwd=oe9IGV4ANo08IaFVPrfiS0mJGmhcfj.1 \nMeeting ID: 811 5989 7257\nPasscode: 819084
URL:https://cobblestone-hoa.com/event/board-of-directors-meeting-january-16th-at-900-am/
LOCATION:HOA Conference Room\, 3131 E. Ina Rd\, Tucson\, AZ\, 85712\, United States
END:VEVENT
END:VCALENDAR