BEGIN:VCALENDAR
VERSION:2.0
PRODID:-//Cobblestone HOA - ECPv6.15.20//NONSGML v1.0//EN
CALSCALE:GREGORIAN
METHOD:PUBLISH
X-WR-CALNAME:Cobblestone HOA
X-ORIGINAL-URL:https://cobblestone-hoa.com
X-WR-CALDESC:Events for Cobblestone HOA
REFRESH-INTERVAL;VALUE=DURATION:PT1H
X-Robots-Tag:noindex
X-PUBLISHED-TTL:PT1H
BEGIN:VTIMEZONE
TZID:America/Phoenix
BEGIN:STANDARD
TZOFFSETFROM:-0700
TZOFFSETTO:-0700
TZNAME:MST
DTSTART:20230101T000000
END:STANDARD
END:VTIMEZONE
BEGIN:VEVENT
DTSTART;TZID=America/Phoenix:20241114T143000
DTEND;TZID=America/Phoenix:20241114T163000
DTSTAMP:20260424T113821
CREATED:20240912T185425Z
LAST-MODIFIED:20240912T185532Z
UID:1631-1731594600-1731601800@cobblestone-hoa.com
SUMMARY:ACC Meeting - November 14\, 2024 at 2:30 PM
DESCRIPTION:The ACC meets on the second Thursday of the month at the community conference room. For those who prefer to attend virtually\, a Zoom link is provided below: \n  \nhttps://us02web.zoom.us/j/85883926766?pwd=9fvuuayKEOu3QJn9JgJ6Qf3JdRaFQF.1 \nMeeting ID: 858 8392 6766\nPasscode: 633052 \nPhone: 719 359 4580
URL:https://cobblestone-hoa.com/event/acc-meeting-november-14-2024-at-230-pm/
LOCATION:HOA Conference Room\, 3131 E. Ina Rd\, Tucson\, AZ\, 85712\, United States
END:VEVENT
END:VCALENDAR