BEGIN:VCALENDAR
VERSION:2.0
PRODID:-//Cobblestone HOA - ECPv6.15.20//NONSGML v1.0//EN
CALSCALE:GREGORIAN
METHOD:PUBLISH
X-WR-CALNAME:Cobblestone HOA
X-ORIGINAL-URL:https://cobblestone-hoa.com
X-WR-CALDESC:Events for Cobblestone HOA
REFRESH-INTERVAL;VALUE=DURATION:PT1H
X-Robots-Tag:noindex
X-PUBLISHED-TTL:PT1H
BEGIN:VTIMEZONE
TZID:America/Phoenix
BEGIN:STANDARD
TZOFFSETFROM:-0700
TZOFFSETTO:-0700
TZNAME:MST
DTSTART:20230101T000000
END:STANDARD
END:VTIMEZONE
BEGIN:VEVENT
DTSTART;TZID=America/Phoenix:20241017T090000
DTEND;TZID=America/Phoenix:20241017T110000
DTSTAMP:20260424T131715
CREATED:20240912T182438Z
LAST-MODIFIED:20240912T182438Z
UID:1624-1729155600-1729162800@cobblestone-hoa.com
SUMMARY:Board of Directors Meeting - October 17\, 2024 at 9:00 AM
DESCRIPTION:The Board meets on the third Thursday of the month at the community conference room. A Zoom link is also provided for those who would like to attend remotely. The Zoom details are included below: \nhttps://us02web.zoom.us/j/89086641560?pwd=ik8vgJAW03GOepLNKTJDm3KDavoBYO.1  \nMeeting ID: 890 8664 1560\nPasscode: 058815 \nPhone: 253 205 0468 \n 
URL:https://cobblestone-hoa.com/event/board-of-directors-meeting-october-17-2024-at-900-am/
LOCATION:HOA Conference Room\, 3131 E. Ina Rd\, Tucson\, AZ\, 85712\, United States
END:VEVENT
END:VCALENDAR